Workbook
Name _Toc125454354: '2. IZVRŠENJE PLANA PROGRAMA'!#REF!
Name _Toc339887787: '2. IZVRŠENJE PLANA PROGRAMA'!#REF!
Name Djelatnosti: 'Programske djelatnosti'!$A$1:$A$11

Sheet 1. OSNOVNI PODACI
A9: PLAN PROGRAMSKIH AKTIVNOSTI USTANOVA
A10: U NADLEŽNOSTI MINISTARSTVA KULTURE
A11: ZA 2023. GODINU
A13: Konačno izvješće (označiti s X) | E13: 2023
A15: OIB USTANOVE: | D15: 85570198172
A17: USTANOVA: | D17: =+VLOOKUP($D$15,'Registar proračunskih korisnika'!B:D,3,0) -> ARHEOLOŠKI MUZEJ NARONA
A18: ADRESA: | D18: =+VLOOKUP($D$15,'Registar proračunskih korisnika'!B:E,4,0) -> NARONSKI TRG 6
A19: POŠTANSKI BROJ: | D19: =+VLOOKUP($D$15,'Registar proračunskih korisnika'!B:F,5,0) -> 20352 VID
A20: MATIČNI BROJ: | D20: =+VLOOKUP($D$15,'Registar proračunskih korisnika'!B:G,6,0) -> 2071061
C21: RKP:
C22: PRORAČUNSKA AKTIVNOST:
A28: PODACI O RAVNATELJU USTANOVE
B30: ime i prezime: | C30: TONI GLUČINA
B31: telefon / mobitel: | C31: 385(0)913000288
B32: e-mail: | C32: toni.glucina@gmail.com
F37: Potpis ravnatelja ustanove

Sheet 2. IZVRŠENJE PLANA PROGRAMA
A1: Tablica: IZVRŠENJE PLANA PROGRAMSKIH AKTIVNOSTI USTANOVA U NADLEŽNOSTI MINISTARSTVA KULTURE I MEDIJA ZA 2023. GODINU: Ustanova: Arheološki muzej Narona
A2: ugovoreno | D2: izvršeno | G2: ostali izvori financiraja
C3: =SUM(C5:C50) -> 1514404 | D3: =SUM(D5:D39) -> 1514404 | G3: =SUM(G5:G38) -> 0 | H3: =SUM(H5:H29) -> 0
A4: PROGRAMSKA DJELATNOST | B4: NAZIV PROGRAMA | C4: UGOVORENI IZNOS (SREDSTVA MINISTARSTVA - IZVOR 11) | D4: UTROŠENI IZNOS SREDSTAVA MINISTARSTVA - prikazati utrošeni iznos sredstava Ministarstva (izvor 11) | E4: SPECIFIKACIJA TROŠKOVA SREDSTAVA MINISTARSTVA KULTURE I MEDIJA (EUR) | F4: DETALJNI OPIS IZVRŠENOG PROGRAMA (ujedno navesti aktinosti koje su provodene programom te ukoliko ih je bilo navesti razloge odstupanja od planiranog) | G4: UTROŠENA VLASTITA SREDSTVA PO PROGRAMU (izvor 31) | H4: OSTALI IZVORI FINANCIRANJA specificirati izvor (izvor 43, 52)
A5: Investicijska potpora | B5: Nastavak (IV. faza) izgradnje lapidarija Arheološkog muzeja Narona u Vidu kraj Metkovića na dijelu k. č. 438/127, k. o. Vid | C5: 1494495.6 | D5: 1494495.6 | E5: Putni nalog broj 3 za kordinaciju, konto 4214241, iznos = 302,48 EUR (izvor 11) Putni nalog broj 7 za koordinaciju, konto 4214241, iznos = 256,48 EUR (izvor 11) Građevinske situacije: ING-GRAD, račun 67/20/1, konto 421241, iznos = 224.241,03 EUR (izvor 11); ING-GRAD, račun 119/20/1, konto 421241, iznos = 32.900,44 EUR (izvor 11); ING-GRAD d.o.o., račun 142/20/1, konto 421241, iznos = 687.501,19 EUR (izvor 11); ING-GRAD, račun 207, konto 421241, iznos = 114.000,00 EUR (izvor 11); ING-GRAD, račun 238, konto 421241, iznos = 100.383,54 EUR (izvor 11) Stručni nadzor: INTRADOS PROJEKT d.o.o., račun br. 79-P1-1, konto 421241, iznos = 6.727,23 EUR (izvor 11); INTRADOS PROJEKT d.o.o., račun 114-P1-1, konto 421241, iznos = 987,01 EUR (izvor 11); INTRADOS PROJEKT d.o.o., račun 124-P1-1, konto 421241, iznos = 20.625,04 EUR (izvor 11); INTRADOS PROJEKT, račun 180, konto 421241, iznos = 3.420,00 EUR (izvor 11); INTRADOS PROJEKT, račun 181, konto 421241, iznos = 3.011,51 EUR (izvor 11) Mihael Talajić, snimanje, račun 112-K/23, konto 421241, iznos = 240,00 EUR (izvor 11) Intrados, račun 225-P1-1, konto 421241, iznos = 4.683,33 EUR (izvor 11) Intrados , račun 224-P1-1 konto 421241, iznos = 4.044,63 EUR (izvor 11) RAČUNI ZA KOJE SMO SREDSTVA DOBILI U 2023., OBVEZA SU 2023., PLAĆENI U 2024. Ing-grad RN 231/20/1 134.820,68 EUR, konto 421241 (izvor 11) Ing grad 258/10/1 156.110,93 EUR, konto 421241 (izvor 11) Ugovor o djelu, recenzija muzeološke koncepcije, 240,10 EUR (dio), konto 421241 (izvor 11) | F5: Program je u cijelosti izvršen. Tijekom 2023. godine izvedeni su građevinski radovi na novoj zgradi Arheološkog muzeja Narona. Izvršeni su radovi prema građevinskim situacijama (1.159.026,20 EUR) te je proveden stručni nadzor (34.770,79 EUR). Ostali troškovi se odnose na putne troškove (558,96 EUR) i snimanje terena (240,00 EUR). 29. prosinca 2023. odobrena su dodatna sredstva od strane MKM u iznosu od 300.000,00 EUR. Na taj dan imali smo račune Intradosa (RN 224-P1-1 i RN 225-P1-1) koji su i podmireni u 2023. te dio računa Mihael Talajić (RN 112-K/23 dio 100,33 EUR). Račune Ing-grada (231/20/1 i 258/10/1) i Ugovor o djelu fizički nismo imali pa su zavedeni kao obveza 2023. koja će se podmiriti u 2024. Računi od izvođača radova Ing-grad su primljena 2. siječnja 2024. te je i obveza koja se odnosi na 2023. podmirena u 2024. Ugovor o autorskom djelu u iznosu od 804,20 za recenziju muzeološke koncepcije obračunat je u 2023. Ugovor će biti podmiren tijekom siječnja 2024. Za ugovor imamo osigurana sredstva u iznosu od 240,10 EUR, a ostatak ćemo tražiti u zahtjevu za siječanj 2024. od MKM. Ukupno smo za izgradnju Lapidarija za 2023. dobili 1.494.495,62 EUR što će biti i utrošeno prema gore navedenoj specifikaciji.
A6: Muzejska djelatnost | B6: Gostovanje izložbe Rimski carski portret na srebrnom novcu iz fundusa Arheološkog muzeja u Dubrovniku | C6: 1327.2281 | D6: 1327.2281 | E6: Najam vozila: FUERTE d.o.o., račun 10-WEB2-1, konto 323991, iznos = 120,00 EUR (izvor 11) Osiguranje: CROATIA OSIGURANJE d.d., račun 990275158/23, konto 329221, iznos = 20,00 EUR (izvor 11) CROATIA OSIGURANJE d.d., račun 990565856/23, konto 329221, iznos = 53,11 EUR (izvor 11) CROATIA OSIGURANJE d.d., račun 990586330/23, konto 329221, iznos = 29,20 EUR (izvor 11) CROATIA OSIGURANJE d.d., račun 527700002398, konto 329221, iznos = 20,00 EUR (izvor 11) Grafičke usluge: T-REKLAM, račun 104/1/1, konto 323911, iznos = 490,63 EUR (izvor 11) Print panoa: SERGALI d.o.o., račun 202/V1/1, konto 323911, dio računa = 60,82 EUR (izvor 11) Letak: KERSCHOFFSET d.o.o., račun 777/VP1/1, konto 32334, dio računa = 46,62 EUR (izvor 11) Ostali troškovi: PROIZVODNJA NAMJEŠTAJA LIPA, račun 3/1/1. konto 323991, iznos = 290,00 EUR (izvor 11) Film i izrada fotografija: VERAJA, račun 014-001-002, konto 323921, iznos = 40,00 EUR (izvor 11) Smještaj: ĐUĐA&MATE, račun 424/1/2, konto 323991, iznos = 82,30 EUR (izvor 11) Putni nalog br. 8/2023, autor izložbe, konto 32111, iznos = 46,00 EUR (izvor 11) Dnevnice: Putni nalog broj 8/2023, autor izložbe, konto 32111, iznos = 28,55 EUR (izvor 11) | F6: U Arheološkom muzeju Narona je od 23. veljače do 13. svibnja 2023. godine gostovala izložba Rimski carski portret na srebrnom novcu iz fundusa Arheološkog muzeja u Dubrovniku. Na izložbi je prezentirano 45 doniranih rimskih srebrnjaka – denara, a fokus u obradi građe stavljen je na prikaze portreta careva i članova njihovih obitelji. Izložbom se želi potaknuti javnost na doniranje građe nadležnim muzejima. Na samom zatvaranju izložbe autor Darko Milošević je održao predavanje pod nazivom Portreti careva kroz stoljeća. Troškovi izložbe u iznosu od 1.327,23 EUR osigurani su iz izvora 11, odnosno Ministarstva kulture i medija. Osim toga gostovanje izložbe je novčano pomogla Dubrovačko-neretvanska županija u iznosu od 500 eura, a troškovi rezentacije u iznosu od 264,70 EUR su podmireni iz vlastitih prihoda. Ukupni trošak izložbe je 2.091,93 EUR što je više za 101,09 EUR od planiranih troškova. | H6: Print panoa: SERGALI d.o.o., račun 202/V1/1, konto 323911, 425,62 EUR (izvor 52) STAKLORAD PERAK, račun 31-1-1, konto 323991, iznos = 74,38 EUR - (izvor 52) Reprezentacija: ĐUĐA&MATE, račun 413/1/2, konto 329312, iznos = 116,41 EUR (izvor 43) ĐUĐA&MATE, catering za uzvanike, rč. 425/1/2, 76,99 EUR (izvor 43) Razni dobavljači, konto 329312, iznos = 71,30 EUR (izvor 43)
A7: Muzejska djelatnost | B7: Izložba Mitološki blizanci u Naroni | C7: 3981.6843 | D7: 3981.6843 | E7: Izrada ilustracija za izložbu: WorldofCat, račun 2-1-1, konto 323791, iznos = 150,00 EUR (izvor 11) Vas losif Levente, račun 11-0001, konto 323791, iznos = 125,00 EUR (izvor 11) Vas losif Levente, račun 11-0004, konto 323791, iznos = 125,00 EUR (izvor 11) WorldofCat, račun 4-1-1, konto 323791, iznos = 150,00 EUR (izvor 11) Flora Kirk, račun 202302-02, konto 323791, iznos = 100,00 EUR (izvor 11) Intelektualne usluge: grafička priprema i tisak kataloga, plakata…, Plotanje Martinović, račun 158-01, konto 323791, iznos = 2.710,20 EUR (izvor 11) Art Narona, izrada okvira, račun 015-P1/2, konto 322111,dio računa = 71,07 EUR (izvor 11) (ukupan iznos računa = 240,00 EUR) Lektura teksta: Verbarium, račun 42-P-1, konto 323771, iznos = 77,61 EUR (izvor 11) Grafičke usluge: Steve McDonald, račun FCD86865-0001, konto 323911, iznos = 139,40 EUR (izvor 11) Steve McDonald, račun FCD86865-0002, konto 323911, iznos = 282,40 EUR (izvor 11) Domaća radinost vl. Miljenko Majstrović, račun 03/2023, konto 323911, iznos = 51,00 EUR (izvor 11) | F7: Program je u cijelosti izvršen. U Arheološkom muzeju Narona je od 18. svibnja 2023. otvorena izložba pod nazivom Mitološki blizaci u Naroni, autorice Sande Viskić, kustosice/dokumentaristice Arheološkog muzeja Narona. Na izložbi su prezentirani mitološki i politički blizanački parovi bogova, junaka ili ljudi koji se nalaze u stalnom postavu muzeja. Predviđeno izlaganje izložbe do 18. kolovoza 2023. je zbog izmjene programa produljeno do 9. listopada 2023. Uz izložbu je tiskan dvojezičan katalog na hrvatskom i engleskom jeziku te su izrađeni suveniri uz izložbu. Troškovi izložbe su: tisak, dizajn, fotografiranje i reprezentacije. Ukupni trošak izložbe je 5.307,08 EUR što je više za 130,89 EUR od planiranih troškova izložbe. Za troškove izložbe planirano je i 398,17 EUR prihoda iz sredstava Grada, sredstva nisu odobrena pa su se troškovi financirali iz vlastitih izvora. | G7: Prijevod teksta, Ugovor o djelu br. 1, konto 32372, iznos = 484,95 EUR (izvor 31) Ostali troškovi: trošak materijala, Zadruga artist Vito, račun 11-D1-00, konto 323991, iznos = 54,70 EUR (izvor 31) Ikea Hrvatska d.o.o.,stol, račun 65689/533/1, konto 323991, iznos = 44,32 EUR (izvor 31) Metal Primorac, metalni stalci, račun 12/PP1/1, konto 323991, iznos = 193,50 EUR (izvor 31) Art Narona, izrada okvira, račun 015-P1/2, konto 322111,dio računa = 168,93 EUR (izvor 31) Tyler lockett Stido, račun 00001, konto 323911, iznos = 279,00 EUR (izvor 31) Fotografiranje izložbe, račun 065-001-002, konto 323921, iznos = 80,00 EUR (izvor 31) Reprezentacija: buket, račun 615/1/3, konto 32999, iznos = 20,00 EUR (izvor 31)
A8: Muzejska djelatnost | B8: Izložba Nakit iz fundusa Arheološkog muzeja Narona | C8: 1990.8421 | D8: 1990.8421 | E8: Lektura: Verbarium, račun 111-P1-1, konto 323771, iznos = 88,57 EUR (izvor 11) Grafički dizajn: Duplo više d.o.o., račun 008/02/1, ukupan iznos = 929,89 EUR, od toga konto 323911, iznos 265,45 EUR (izvor 11) Intelektualne usluge: Ugovor o djelu, konzervacija nalaza, konto 323711, iznos = 99,69 EUR (izvor 11) Grafičke usluge: T-reklam RN 621/1/1 od 16.10.2023., konto 323911, iznos = 129,28 EUR (izvor 11) Duplo više, RN 010/02/1 od 10.11.2023., konto: 323911 , iznos = 935,35 EUR (izvor 11) Tiskara Zelina II. dio PRO23/00000074, konto 32391, iznos = 472,50 EUR (izvor 11) | F8: Program je u cjelosti izvršen. U Arheološkom muzeju Narona je od 12. listopada 2023. otvorena izložba pod nazivom Nakit iz fundusa Arheološkog muzeja Narona, autorice Konstante Bukovac, više kustostice Arheološkog muzeja Narona. Na izložbi je prezentiran nakit iz fundusa Arheološkog muzeja Narona. Predviđeno izlaganje izložbe je do veljače 2024. Ukupni planirani trošak izložbe je 4.247,13 EUR, a do sada je utrošeno 3.877,88 EUR. Izložba je u tijeku. Realizaciju izložbe financijski je pomogao Grad Metković u iznosu od 265,00 EUR i Dubrovačko-neretvanska županija u iznosu od 660,00 EUR-a. | G8: Grafički dizajn: Duplo više d.o.o., račun 008/02/1, konto 323912, iznos = 664,44 EUR (zvor 31) Grafičke usluge: T-reklam RN 621/1/1 od 16.10.2023., konto 323912 izvor 31 = 237,60 EUR Veraja, RN 073-001-002 od 19.10.2023., konto 323922 (vl.sred.), iznos = 60,00 EUR (izvor 31) | H8: Grafičke usluge: T-reklam RN 621/1/1 od 16.10.2023., konto 323912 (izvor 52), iznos = 265,00 EUR Tiskara Zelina, I. dio PRO023/izrada kataloga, konto 323911 (izovor 52), iznos = 660,00
A9: Muzejska djelatnost | B9: Pedagoško–andragoške aktivnosti Arheološkog muzeja Narona | C9: 1327.2281 | D9: 1327.2281 | E9: Ostali troškovi: Didaktički materijal – mozaik, Romer shop, konto 323991, iznos = 75,88 EUR (izvor 11) Grafička priprema i tisak, T-reklam, račun 62/1/1 konto 32399, iznos = 318,75 EUR (izvor 11) Potrošni materijal, Lidl d.o.o. k.d., račun 9017/POSLO120/10214, konto 323991, iznos = 5,64 EUR (izvor 11) , Petica, račun 1525/01/1, konto 323991, iznos = 4,72 EUR (izvor 11) Razni troškovi, razni dobavljači Trgovina delta color, račun 7013/1/1,konto 323991, iznos = 26,37 EUR (izvor 11) ; Duga tehna, račun 792/1/18, konto 323991, iznos = 11,05 EUR (izvor 11) ; Muller, račun 21509/5072/3, konto 323991, iznos = 15,85 EUR (izvor 11) Barikada j.d.o.o., igračke za Europske dane arheologije, račun 58/1/1, konto 323991, iznos = 117,06 EUR (izvor 11) Promidžbeni materijal, Balon centar d.o.o., račun 53-112, konto 32334, iznos = 187,50 EUR (izvor 11) Hrvatsko muzejsko društvo, kotizacija za Noć muzeja, konto 32334, iznos = 39,82 EUR (izvor 11) Video prezentacija i izrada fotografija „Kamene gomile“, Veraja vl. Marin Veraja, kotno 323921, iznos = 40,00 EUR (izvor 11) Potrošni materijal: NIDA, račun 1251/2/1, konto 32219, iznos = 28,01 EUR (izvor 11); Narona impex, račun 5190/790, konto 32219, iznos = 3,73 EUR (izvor 11): Konzum, račun 6083/0715/2, konto 32219, iznos = 24,84 EUR (izvor 11) Delta color, račun 8770/1/1, konto 322111, iznos = 17,84 EUR (izvor 11) ; Makromikro, račun 463-MT01-91500, konto 322111, iznos = 14,80 EUR (izvor 11) ; Konzum, račun 75161/3292/1, konto 322111, iznos = 10,10 EUR (izvor 11) Ostali troškovi: JUG obrt za trgovinu, košare, račun 399, konto 329991, iznos = 114,00 EUR (izvor 11) TEDI, potrošni materijal, računi 37456, 37358,37080, konto 329991, iznos = 45,32 EUR (izvor 11) T-reklam, račun 661, konto 32391, iznos = 225,95 EUR (izvor 11) dio računa | F9: Program je u cjelosti izvršen. Sve planirane pedagoško-andragoške aktivnosti za 2023. godinu su i provedene. Planirana sredstva iz izvora 11 su utrošena. U Arheološkom muzeju Narona održano je više pedagoških aktivnosti. Povodom organiziranja Noći muzeja, Međunarodnog dana muzeja, Rimske noći u Naroni i drugih događanja i manifestacija održane su radionica za djecu (Kamene gomile, Rimska medicina, Sport u antici i Zvijeđa) te su osmišljeni i tiskani edukativni materijali i izrađene video prezentacije. Ukupni trošak programa je 1.434,94 EUR što je više za 107,71 EUR od planiranih troškova. | G9: Reprezentacija: Pekara Klas, račun 57463/1/1, konto 32931, iznos = 66,50 EUR (izvor 31) Lidl, račun 58963/POSLO120/10214, konto 32931, iznos = 17,07 EUR (izvor 31) | H9: Vinogradi Volarević, račun 130-01-91, konto 329312, iznos = 24,14 EUR (izvor 43)
A10: Muzejska djelatnost | B10: Crtanje arheoloških nalaza | C10: 0 | D10: 0 | F10: Program nije izvršen.
A11: Muzejska djelatnost | B11: Rekognosciranje delte rijeke Neretve – prostor Općine Kula Norinska | C11: 0 | D11: 0 | F11: Zbog povećanog opsega posla vezano uz poslove kustosa program nije proveden.
A12: Muzejska djelatnost | B12: Georadarsko snimanje arheološkog nalazišta na bivšoj trasi vodovoda | C12: 2654.4562 | D12: 2654.4562 | E12: Račun 12/2023 dobavljača GEARH d.o.o. od 13. listopada 2023., iznos = 5.250,00 EUR. Utrošeno 2.654,46 EUR iz izvora 11 (konto 323751) | F12: Program je u cjelosti izvršen. U četvrtom kvartalu 2023. godine provedeno je geo-radarsko snimanje na lokalitetu Popove bare u Vidu. Snimanje je provedeno u svrhu registriranja arheoloških ostataka na prostoru koji bi se trebao urediti u svrhu prezentacije južnog trakta naronitanskih gradskih zidina. Podatci dobiveni snimanjem će poslužili kao osnova za planiranje budućih otkupa zemljišta i iskopavanja radi prezentacije naronitanske baštine. Snimanje je obavljeno te je dostavljeno izvješće s rezultatima. Ukupni trošak programa je 5.308,91 EUR što je manje za 58,90 EUR od planiranih troškova. | H12: Račun 12/2023 dobavljača GEARH d.o.o. od 13. listopada 2023., iznos = 5.250,00 EUR. Utrošeno 2.595,54 EUR iz vlastitih izvora, izvor 43 (konto 323752).
A13: Arheološka baština | B13: Konzervacija bedema Narone | C13: 5308.9123 | D13: 5308.9123 | E13: Fides art, RN 20/1/1, konto 323211, ukupan iznos računa iznos 7.963,38 EUR, iz izvora 11, konto 323211, zatraženo 5.308,91 EUR, | F13: Program je u cjelosti izvršen. U četvrtom kvartalu 2023. godine provedeni su konzervatorsko-restauratorski radovi na djelu sjevernih gradskih zidina antičke Narone. Program je izvršen prema planiranim zahvatima u 2023. godini. | G13: Fides art, RN 20/1/1, konto 323212, ukupan iznos računa iznos 7.963,38 EUR, iz vlastitih izvora, izvor 31, zatražen, iznos od 2.654,47 EUR.
A14: Arheološka baština | B14: Konzervacija i restauracija metalnih predmeta iz fundusa AMN | C14: 3318.0702 | D14: 3318.0702 | E14: Konzervatorski poslovi: Ugovor o djelu Klasa: 612-05/23-N/05-2-01, Urbroj: 2117-10-5/23-329, konto 323711, iznos = 1.008,30 EUR (izvor 11) Ugovor o djelu Klasa: 611-02/23-05/12 Ur.broj: 2117-10-5-215, konto 323721, iznos 2.309,77 EUR (izvor 11); | F14: Program je u cijelosti izvršen. Nastavljen je program čišćenja i konzervacije metalnih pokretnih nalaza iz zbirki Arheološkog muzeja Narona. | G14: Ugovor o djelu Klasa: 611-02/23-05/12 Ur.broj: 2117-10-5-215, konto 323721, iznos 327,31 EUR (izvor 31)
A15: Arheološka baština | B15: Otkupi arheološke građe | C15: 0 | D15: 0 | F15: Tijekom 2023. nije bilo otkupa arheološke građe.

Sheet 3.A PRORAČUNSKI PLAN-prihodi
A1: BROJ KONTA (4 razina) | B1: NAZIV KONTA (automatski se upisuje unosom kontnog broja) | C1: SREDSTVA MK-a ZA PROGRAMSKU DJELTNOST | D1: VIŠAK IZ PRETHODNE GODINE RASPOREĐEN PREMA KONTIMA | E1: VLASTITA SREDSTVA | I1: UKUPNO
E2: IZVOR 31 | F2: IZVOR 43 | G2: IZVOR 52 | H2: IZVOR 61
A3: =+IF(C3=C4," ","GREŠKA") -> GREŠKA | B3: Ukupni iznosi iz tablice 2. | C3: =+'2. IZVRŠENJE PLANA PROGRAMA'!H2 -> 0 | I3: =+'2. IZVRŠENJE PLANA PROGRAMA'!G2 -> ostali izvori financiraja
A4: =+IF(I3=I4," ","GREŠKA") -> GREŠKA | B4: UKUPNO PRIHODI | C4: =SUM(C5:C1048576) -> 81500 | D4: =SUM(D5:D1048576) -> 14455 | E4: =SUM(E5:E1048576) -> 0 | F4: =SUM(F5:F1048576) -> 0 | G4: =SUM(G5:G1048576) -> 0 | H4: =SUM(H5:H1048576) -> 0 | I4: =SUM(I5:I1048576) -> 95955
B5: 67111 | C5: 53500 | I5: =SUM(C5:H5) -> 53500
B6: 67121 | C6: 28000 | I6: =SUM(C6:H6) -> 28000
B7: 92211 | D7: 14455 | I7: =SUM(C7:H7) -> 14455
B8: =+VLOOKUP(A8,'Kontni plan'!B:C,2,0) -> #N/A | I8: =SUM(C8:H8) -> 0
B9: =+VLOOKUP(A9,'Kontni plan'!B:C,2,0) -> #N/A | I9: =SUM(C9:H9) -> 0
B10: =+VLOOKUP(A10,'Kontni plan'!B:C,2,0) -> #N/A | I10: =SUM(C10:H10) -> 0
B11: =+VLOOKUP(A11,'Kontni plan'!B:C,2,0) -> #N/A | I11: =SUM(C11:H11) -> 0
B12: =+VLOOKUP(A12,'Kontni plan'!B:C,2,0) -> #N/A | I12: =SUM(C12:H12) -> 0
B13: =+VLOOKUP(A13,'Kontni plan'!B:C,2,0) -> #N/A | I13: =SUM(C13:H13) -> 0
B14: =+VLOOKUP(A14,'Kontni plan'!B:C,2,0) -> #N/A | I14: =SUM(C14:H14) -> 0
B15: =+VLOOKUP(A15,'Kontni plan'!B:C,2,0) -> #N/A | I15: =SUM(C15:H15) -> 0
B16: =+VLOOKUP(A16,'Kontni plan'!B:C,2,0) -> #N/A | I16: =SUM(C16:H16) -> 0
B17: =+VLOOKUP(A17,'Kontni plan'!B:C,2,0) -> #N/A | I17: =SUM(C17:H17) -> 0
B18: =+VLOOKUP(A18,'Kontni plan'!B:C,2,0) -> #N/A | I18: =SUM(C18:H18) -> 0
B19: =+VLOOKUP(A19,'Kontni plan'!B:C,2,0) -> #N/A | I19: =SUM(C19:H19) -> 0
... B23: =+VLOOKUP(A23,'Kontni plan'!B:C,2,0) -> #N/A | I23: =SUM(C23:H23) -> 0

Sheet 3.B PRORAČUNSKI PLAN-rashodi
A1: BROJ KONTA (4 razina) | B1: NAZIV KONTA (automatski se upisuje unosom kontnog broja) | C1: SREDSTVA MK-a ZA PROGRAMSKU DJELTNOST | D1: VIŠAK IZ PRETHODNE GODINE RASPOREĐEN PREMA KONTIMA | E1: VLASTITA SREDSTVA | I1: UKUPNO
E2: IZVOR 31 | F2: IZVOR 43 | G2: IZVOR 52 | H2: IZVOR 61
A3: =+IF(C3=C4," ","GREŠKA") -> GREŠKA | B3: Ukupni iznos iz tablice 2. | C3: =+'2. IZVRŠENJE PLANA PROGRAMA'!H2 -> 0 | I3: =+'2. IZVRŠENJE PLANA PROGRAMA'!G2 -> ostali izvori financiraja
A4: =+IF(I3=I4," ","GREŠKA") -> GREŠKA | B4: UKUPNO RASHODI | C4: =SUM(C5:C1048576) -> 81500 | D4: =SUM(D5:D1048576) -> 14455 | F4: =SUM(F5:F1048576) -> 0 | G4: =SUM(G5:G1048576) -> 0 | H4: =SUM(H5:H1048576) -> 0 | I4: =SUM(I5:I1048576) -> 95955
B5: 32391 | C5: 24000 | D5: 4000 | I5: =SUM(C5:H5) -> 28000
B6: 32339 | C6: 12000 | D6: 0 | I6: =SUM(C6:H6) -> 12000
B7: 32372 | C7: 0 | D7: 4900 | I7: =SUM(C7:H7) -> 4900
B8: 42211 | C8: 28000 | D8: 5074 | I8: =SUM(C8:H8) -> 33074
B9: 42239 | C9: 2500 | D9: 481 | I9: =SUM(C9:H9) -> 2981
B10: 32331 | C10: 15000 | I10: =SUM(C10:H10) -> 15000
B11: =+VLOOKUP(A11,'Kontni plan'!B:C,2,0) -> #N/A | I11: =SUM(C11:H11) -> 0
B12: =+VLOOKUP(A12,'Kontni plan'!B:C,2,0) -> #N/A | I12: =SUM(C12:H12) -> 0
B13: =+VLOOKUP(A13,'Kontni plan'!B:C,2,0) -> #N/A | I13: =SUM(C13:H13) -> 0
B14: =+VLOOKUP(A14,'Kontni plan'!B:C,2,0) -> #N/A | I14: =SUM(C14:H14) -> 0
B15: =+VLOOKUP(A15,'Kontni plan'!B:C,2,0) -> #N/A | I15: =SUM(C15:H15) -> 0
B16: =+VLOOKUP(A16,'Kontni plan'!B:C,2,0) -> #N/A | I16: =SUM(C16:H16) -> 0
B17: =+VLOOKUP(A17,'Kontni plan'!B:C,2,0) -> #N/A | I17: =SUM(C17:H17) -> 0
B18: =+VLOOKUP(A18,'Kontni plan'!B:C,2,0) -> #N/A | I18: =SUM(C18:H18) -> 0
B19: =+VLOOKUP(A19,'Kontni plan'!B:C,2,0) -> #N/A | I19: =SUM(C19:H19) -> 0
B20: =+VLOOKUP(A20,'Kontni plan'!B:C,2,0) -> #N/A | I20: =SUM(C20:H20) -> 0
B21: =+VLOOKUP(A21,'Kontni plan'!B:C,2,0) -> #N/A | I21: =SUM(C21:H21) -> 0
B22: =+VLOOKUP(A22,'Kontni plan'!B:C,2,0) -> #N/A | I22: =SUM(C22:H22) -> 0
... B46: =+VLOOKUP(A46,'Kontni plan'!B:C,2,0) -> #N/A | I46: =SUM(C46:H46) -> 0

Sheet Kontni plan
A1: Klasa | B1: Konto | C1: Naziv konta
A2: O | B2: 3111 | C2: Plaće za redovan rad
A3: O | B3: 3112 | C3: Plaće u naravi
A4: O | B4: 3113 | C4: Plaće za prekovremeni rad
A5: O | B5: 3114 | C5: Plaće za posebne uvjete rada
A6: O | B6: 3121 | C6: Ostali rashodi za zaposlene
A7: O | B7: 3131 | C7: Doprinosi za mirovinsko osiguranje
A8: O | B8: 3132 | C8: Doprinosi za obvezno zdravstveno osiguranje
A9: O | B9: 3133 | C9: Doprinosi za obvezno osiguranje u slučaju nezaposlenosti
A10: O | B10: 3211 | C10: Službena putovanja
A11: O | B11: 3212 | C11: Naknade za prijevoz, za rad na terenu i odvojeni život
A12: O | B12: 3213 | C12: Stručno usavršavanje zaposlenika
A13: O | B13: 3214 | C13: Ostale naknade troškova zaposlenima
... A319: O | B319: 9969 | C319: Ostali izvanbilančni zapisi

Sheet Registar proračunskih korisnika
A1: R. BR. | B1: OIB | C1: RKP | D1: NAZIV PRORAČUNSKOGA KORISNIKA | E1: ADRESA PRORAČUNSKOGA KORISNIKA | F1: POŠTANSKI BROJ I NAZIV GRADA/OPĆINE | G1: MATIČNI BROJ | H1: NAZIV PRORAČUNSKOGA KORISNIKA | I1: USTANOVE MK | J1: AKTIVNOST
A2: 55 | B2: 35237547014 | C2: 49075 | D2: AGENCIJA ZA ELEKTRONIČKE MEDIJE | E2: JAGIĆEVA 31 | F2: 10000 ZAGREB | G2: 02307014 | H2: AGENCIJA ZA ELEKTRONIČKE MEDIJE | I2: OSTALE USTANOVE | J2: A908002
A3: 56 | B3: 80099091562 | C3: 789 | D3: DRŽAVNI ARHIV U BJELOVARU | E3: TRG EUGENA KVATERNIKA 6 | F3: 43000 BJELOVAR | G3: 3316734 | H3: DRŽAVNI ARHIV U BJELOVARU | I3: ARHIVI | J3: A565028
A4: 57 | B4: 1076882554 | C4: 797 | D4: DRŽAVNI ARHIV U DUBROVNIKU | E4: SV.DOMINIKA 1 | F4: 20000 DUBROVNIK | G4: 3303870 | H4: DRŽAVNI ARHIV U DUBROVNIKU | I4: ARHIVI | J4: A565028
A5: 58 | B5: 34694889661 | C5: 23577 | D5: DRŽAVNI ARHIV U GOSPIĆU | E5: KANIŠKA 17 | F5: 53000 GOSPIĆ | G5: 1475444 | H5: DRŽAVNI ARHIV U GOSPIĆU | I5: ARHIVI | J5: A565028
A6: 59 | B6: 99575902022 | C6: 801 | D6: DRŽAVNI ARHIV U KARLOVCU | E6: LJ.ŠESTIĆA 5 | F6: 47000 KARLOVAC | G6: 3123367 | H6: DRŽAVNI ARHIV U KARLOVCU | I6: ARHIVI | J6: A565028
A7: 60 | B7: 61338774671 | C7: 810 | D7: DRŽAVNI ARHIV U OSIJEKU | E7: KAMILA FIRINGERA 1 | F7: 31000 OSIJEK | G7: 3014223 | H7: DRŽAVNI ARHIV U OSIJEKU | I7: ARHIVI | J7: A565028
A8: 61 | B8: 55059300119 | C8: 828 | D8: DRŽAVNI ARHIV U PAZINU | E8: VLADIMIRA NAZORA 3 | F8: 52000 PAZIN | G8: 3089240 | H8: DRŽAVNI ARHIV U PAZINU | I8: ARHIVI | J8: A565028
A9: 62 | B9: 16391096016 | C9: 836 | D9: DRŽAVNI ARHIV U RIJECI | E9: PARK N. HOSTA 2 | F9: 51000 RIJEKA | G9: 3321088 | H9: DRŽAVNI ARHIV U RIJECI | I9: ARHIVI | J9: A565028
A10: 63 | B10: 35994268014 | C10: 844 | D10: DRŽAVNI ARHIV U SISKU | E10: FRANKOPANSKA 21 | F10: 44000 SISAK | G10: 3313824 | H10: DRŽAVNI ARHIV U SISKU | I10: ARHIVI | J10: A565028
A11: 64 | B11: 11265594372 | C11: 852 | D11: DRŽAVNI ARHIV U SLAVONSKOM BRODU | E11: AUGUSTA CESARCA 1 | F11: 35000 SLAVONSKI BROD | G11: 3071162 | H11: DRŽAVNI ARHIV U SLAVONSKOM BRODU | I11: ARHIVI | J11: A565028
A12: 65 | B12: 61469620638 | C12: 869 | D12: DRŽAVNI ARHIV U SPLITU | E12: GLAGOLJAŠKA 18 | F12: 21000 SPLIT | G12: 3118452 | H12: DRŽAVNI ARHIV U SPLITU | I12: ARHIVI | J12: A565028
A13: 66 | B13: 97880836355 | C13: 43915 | D13: DRŽAVNI ARHIV U ŠIBENIKU | E13: VELIMIRA ŠKORPIKA 5 | F13: 22000 ŠIBENIK | G13: 2435411 | H13: DRŽAVNI ARHIV U ŠIBENIKU | I13: ARHIVI | J13: A565028
A14: 67 | B14: 72801109643 | C14: 877 | D14: DRŽAVNI ARHIV U VARAŽDINU | E14: TRSTENJAKOVA 7 | F14: 42000 VARAŽDIN | G14: 3006166 | H14: DRŽAVNI ARHIV U VARAŽDINU | I14: ARHIVI | J14: A565028
... A46: 99 | B46: 8647229584 | C46: 22339 | D46: HRVATSKI RESTAURATORSKI ZAVOD | E46: NIKE GRŠKOVIĆA 23 | F46: 10000 ZAGREB | G46: 1250795 | H46: HRVATSKI RESTAURATORSKI ZAVOD | I46: OSTALE USTANOVE | J46: A834001
A47: 100 | B47: 12091168733 | C47: 23585 | D47: HRVATSKA KNJIŽNICA ZA SLIJEPE | E47: DRAŠKOVIĆEVA 80/1 | F47: 10000 ZAGREB | G47: 1494449 | H47: HRVATSKA KNJIŽNICA ZA SLIJEPE | I47: OSTALE USTANOVE
A48: 101 | B48: 10852199405 | C48: 25878 | D48: HRVATSKO NARODNO KAZALIŠTE | E48: TRG MARŠALA TITA 6A | F48: 10000 ZAGREB | G48: 3205479 | H48: HRVATSKO NARODNO KAZALIŠTE | I48: OSTALE USTANOVE | J48: A832002
A49: 102 | B49: 27103918402 | C49: 44926 | D49: HRVATSKI AUDIOVIZUALNI CENTAR | E49: NOVA VES 18 | F49: 10000 ZAGREB | G49: 2275341 | H49: HRVATSKI AUDIOVIZUALNI CENTAR | I49: OSTALE USTANOVE | J49: A785009
A50: 103 | B50: 42850342757 | C50: 45189 | D50: MEĐUNARODNI CENTAR ZA PODVODNU ARHEOLOGIJU | E50: BOŽIDARA PETRANOVIĆA 1 | F50: 23000 ZADAR | G50: 2479184 | H50: MEĐUNARODNI CENTAR ZA PODVODNU ARHEOLOGIJU | I50: OSTALE USTANOVE | J50: A843002

Sheet Programske djelatnosti
A1: Arheološka baština
A2: Arhivska djelatnost
A3: Časopisi
A4: Digitalizacija arhivske, knjižnične i muzejske građe
A5: Dramska umjetnost
A6: Glazbene i glazbeno-scenske umjetnosti
A7: Informatizacija
A8: Inovativne umjetničke i kulturne prakse
A9: Investicijska potpora
A10: KKT-Međunarodna kulturna djelatnost
A11: Književne manifestacije
A12: Književni programi knjižara
... A28: Zaštite i očuvanja nematerijalnih kulturnih dobara
