Workbook
Name _Toc125454354: '2. PLAN PROGRAMA'!#REF!
Name _Toc339887787: '2. PLAN PROGRAMA'!#REF!
Name Djelatnosti: 'Programske djelatnosti'!$A$1:$A$11

Sheet 1. OSNOVNI PODACI
A9: PLAN PROGRAMSKIH AKTIVNOSTI USTANOVA
A10: U NADLEŽNOSTI MINISTARSTVA KULTURE I MEDIJA
A11: ZA 2025. GODINU
A14: OIB USTANOVE: | D14: 85570198172
A16: USTANOVA: | D16: =+VLOOKUP($D$14,'Registar proračunskih korisnika'!B:D,3,0) -> ARHEOLOŠKI MUZEJ NARONA
A17: ADRESA: | D17: =+VLOOKUP($D$14,'Registar proračunskih korisnika'!B:E,4,0) -> NARONSKI TRG 6
A18: POŠTANSKI BROJ: | D18: =+VLOOKUP($D$14,'Registar proračunskih korisnika'!B:F,5,0) -> 20352 VID
A19: MATIČNI BROJ: | D19: =+VLOOKUP($D$14,'Registar proračunskih korisnika'!B:G,6,0) -> 2071061
C20: RKP: | D20: =+VLOOKUP($D$14,'Registar proračunskih korisnika'!B:D,2,0) -> 40631
C21: PRORAČUNSKA AKTIVNOST: | D21: =+VLOOKUP($D$14,'Registar proračunskih korisnika'!B:J,9,0) -> A780001
A27: PODACI O RAVNATELJU USTANOVE
B29: ime i prezime: | C29: TONI GLUČINA
B30: telefon / mobitel: | C30: 020 687 149
B31: e-mail: | C31: toni.glucina@a-m-narona.hr
F36: Ravnatelj
F38: =+C29 -> TONI GLUČINA

Sheet 2. PLAN PROGRAMA
A1: Tablica: PLAN PROGRAMSKIH AKTIVNOSTI USTANOVA U NADLEŽNOSTI MINISTARSTVA KULTURE I MEDIJA ZA 2025. GODINU
A2: *Za svaki program priložiti detaljan opis i detaljno razrađeni troškovnik (s iskazanom specifikacijom prihoda i rashoda)
E3: SVEUKUPNO | G3: =SUM(Table1[UKUPNI TROŠKOVI]) -> 2054700 | H3: =SUM(Table1[TRAŽENI IZNOS]) -> 2026600
A4: PROGRAMSKA DJELATNOST (odabrati s padajućeg izbornika) | B4: NAZIV PROGRAMA | C4: POVEZNICA S GODIŠNJIM PLANOM I PROGRAMOM RADA (navesti elemente iz Godišnjeg plana koji se ostvaruju navedenim programom) | D4: KRATKI OPIS PROGRAMA (ujedno navesti aktivnosti koje će se provoditi programom) | E4: VRIJEME REALIZACIJE (početak) | F4: VRIJEME REALIZACIJE (kraj) | G4: UKUPNI TROŠKOVI | H4: TRAŽENI IZNOS
A5: Investicijska potpora | B5: Nastavak izgradnje lapidarija AMN u Vidu kod Metkovića k.č. 438/127, k.o. Vid | C5: I.1 | D5: Arheološki muzej Narona izgrađen je iznad in situ prezentiranih arhitektonskih ostataka rimskog hrama te je specifičnost in situ prezentacije uvjetovala i organizaciju prostornih kapaciteta zgrade. Prostori namijenjeni djelatnicima ne zadovoljavaju potrebe te se muzejski i opći poslovi obavljaju na četiri adrese u Vidu i Metkoviću. Kako bi se osiguralo kvalitetno funkcioniranje muzeja Arheološki muzej Narona posljednjih godina provodi program izgradnje nove muzejske zgrade radno nazvane Lapidarij. Nakon izrade dokumentacije i ishođenja svih potrebnih dozvola 2020. godine počela je izgradnja novog muzejskog objekta. Prema projektu Lapidarij je planiran na način da se u više međusobno povezanih manjih objekata (paviljona) smjeste sadržaji koji nedostaju u sadašnjoj muzejskoj zgradi, a nužni su za funkcioniranje samog muzeja kao institucije. | E5: Siječanj 2025. | F5: Studeni 2025. | G5: 2000000 | H5: 2000000
A6: Investicijska potpora | B6: Nabava informatičke opreme i programa | C6: I.2 | D6: Za redovni rad u muzeju u 2025. godini potrebno je osigurati financijska sredstva za nabavu i instalaciju servera te nabavu tri eksterna diska za pohranu podataka. Server koji se koristi u muzeju star je preko 15 godina i dotrajao te ga je potrebno zamijeniti. Kapaciteti servera koji je trenutno u upotrebi su gotovo popunjeni i ne omogućuju brzu i efikasnu pohranu podataka. Također je potrebno bar jednom godišnje podatke pohraniti na eksterni disk i zbog toga je potrebna nabava eksternih diskova za urede restauratora, dokumentariste i tajnice ustanove. Na njima će biti pohranjivani podaci nastali tijekom godine i u postupku digitalizacije muzejske građe i dokumentacije. Također je potrebna obnova licence za rad na kompjuteru (Office) i zaštitu pri radu na kompjuteru (Kaspersky). | E6: Siječanj 2025. | F6: Studeni 2025. | G6: 7200 | H6: 0
A7: Muzejska djelatnost | B7: Gostovanje izložbe Rimsko zlatno prstenje iz fundusa Arheološkog muzeja u Zagrebu | C7: II.1 | D7: Izložbom će biti predstavljenorimsko prstenje iz fundusa Zbirke rimskog zlatnog i srebrnog nakita Arheološkog muzej u Zagrebu. Manji broj predmeta izložen je u stalnom postavu, a ovom izložbom predstavljen je nastavak rada na Zbirci i predmeti koji dosad nisu bili izlagani. Prstenje unutar Zbirke najčešće su slučajni nalazi pronađeni na raznim antičkim lokalitetima, dospjeli u Muzej kao poklon ili putem otkupa. Posebnu grupu čini prstenje pronađeno na području Siska, prilikom jaružanja korita rijeke Kupe, u nekoliko navrata između 1900. i 1913. godine. Uz originalne predmete u vitrinama, izložbu će pratiti izložbeni panoi i legende s uvećanjima fotografija prstenja. Uz izložbu će biti prikazana tehnologija izrade rimskog prstenja i organizirane radionice izrade nakita za djecu i odrasle. | E7: 14. veljače 2025. | F7: 12. svibnja 2025. | G7: 2450 | H7: 1450
A8: Muzejska djelatnost | B8: Gostovanje izložbe X files - od prapovijesti do tradicije | C8: II.2 | D8: U Arheološkom muzeju Narona predstavit će se izložba X FILES – od prapovijesti do tradicije. Izložba dolazi iz Muzeja vučedolske kulture. Autori izložbe su Petra Nikolić i Darijo Bošnjak, a stručne suradnice Mirna Šuljug i Mirela Hutinec. Na izložbi se predstavlja baranjsko ruho te primjeri motiva na vučedolskim keramičkim predmetima. Izložbom se potiče doživljaj prapovijesti kroz prizmu etnologije te prezentiraju elementi prapovijesne odjeće i šokačke narodne nošnje Baranje s vrlo sličnim uzorcima. Zbog sličnosti u motivima i oblikovanju tradicijske nošnje s vučedolskim motivima rekonstruirana je vučedolska odjeća s naglaskom na tradicijske elemente i odjevne predmete koji su dio izložbe. Izložbom se pokušava odgonetnuti značenje X na prsima prapovijesnih figura i potražiti sličnosti vučedolske keramike i šokačkog tkanja. | E8: 15. svibnja 2025. | F8: 21. srpnja 2025. | G8: 2950 | H8: 1950
A9: Muzejska djelatnost | B9: Izložba Ad Mensam | C9: II.3 | D9: Izložbom će biti predstavljen dio rimske nematerijalne kulture, a koji se odnosi na rimsku gastronomiju. Arheološki muzej Narona u suradnji s dr. sc. Ivanom Ožanić Roguljić s Instituta za arheologiju u Zagrebu godinama radi na eksperimentalnom kuhanju rimskih jela. Ovom izložbom se želi preznetirati višegodišnji rad, ali i dati smjernice za suradnju u budućem razdoblju. Izložba će pratiti Rimsku noć u Naroni 2025. godine. Na interaktivnim površinama prezentirat će se radovi koji će se ostvariti u suradnji sa Srednjom poljoprivrednom i tehničkoj školi u Opuzenu. Prikazat će se rekonstrukcija rimske kuhinje i blagavaonice te usporediti načine čuvanja i transporta prehrmabenih proizvoda u rimsko doba i danas. | E9: 25. srpnja 2025. | F9: 27. listopada 2025. | G9: 10100 | H9: 5400
A10: Muzejska djelatnost | B10: Izložba Naronitanske geme | C10: II.4 | D10: Izložbom će biti predstavljene naronitanske geme koje se nalaze u različitim muzejskim ustanovama. Najviše gema čuva se u splitskom Arheološkom muzeju, zatim u Zemaljskom muzeju Bosne i Hercegovine u Sarajevu, u Arheološkom muzeju Narona, te nekoliko primjeraka u Beču, Oxfordu i Parizu. Sve geme su objavljene, a ovom izložbom se želi prikazati radovi gliptičke umjetnosti pronađeni u Naroni. Izložba bi pratila predstavljanje nove publikacije Zemaljskog muzeja Bosne i Hercegovine u Sarajevu i Arheološkog muzeja Narona u Vidu, u muzejskom nizu Katalozi i monografije 4, autora dr. sc. Adnana Busuladžića o naronitanskim nalazima u Zemaljskom muzeju Bosne i Hercegovine u Sarajevu. | E10: 14. siječnja 2025. | F10: 10. veljače 2025. | G10: 4300 | H10: 3500
A11: Muzejska djelatnost | B11: Izložba tragovima Arheološke baštine Baćine | C11: II.5 | D11: Ovom dvojezičnom izložbom bi javnosti bili predstavljeni rezultati istraživanja na lokalitetima u Baćini (Sv. Andrija, Sv. Jure, rekognosciranje) te donirani predmeti. Neki od izloženih predmeta već su objavljeni i izlagani, a ostali će biti prvi put izloženi. Na izložbi će biti predstavljeno stotinjak predmeta i dijelova predmeta izrađenih od različitih materijala (željezo, bronca, keramika, staklo, novac…). Obim izložbe je 6 panoa i 110 predmeta. Biti će otvorena u listopadu 2025. g. u maloj izložbenoj prostoriji. Izložba će biti popraćena dvojezičnim katalogom. Katalog će na 124 stranice sadržavati 60 fotografija, 15 nacrta, 10 tabli s crtežima nalaza i 1 kartu. Autorica izložbe i kataloga je viša kustosica Arheološkog muzeja Narona Konstanta Bukovac. Tijekom izložbe u suradnji s nastavnicima povijesti iz Ploča će biti osmišljena radionica o arheološkoj baštini Baćine. | E11: 30. listopada 2025. | F11: 10. prosinca 2025. | G11: 8950 | H11: 4300
A12: Muzejska djelatnost | B12: Izložba iskopavanje Augusteuma u Naroni - radovi 1995. | C12: II.6 | D12: U 2025. g. planiramo održati dvojezičnu obljetničku izložbu kojom bi javnosti bio predstavljen dio muzejske dokumentacije nastao tijekom istraživanja na lokalitetu Augusteum u Vidu 1995. g. Na izložbi bi bile predstavljene fotografije kojima je foto dokumentiran tijek radova i izabrana digitalizirana terenska dokumentacija. Obim izložbe je 4 panoa i 100 fotografija. Biti će postavljena na recepciji muzeja uoči Međunarodnog dana muzeja. Izložba će biti popraćena dvojezičnim katalogom. Katalog će biti dvojezičan, obima 20 stranica. Cilj izložbe je obilježavanje 30 godina od otkrića Augusteuma. Autorica izložbe i kataloga je viša kustosica Arheološkog muzeja Narona Konstanta Bukovac. | E12: 17. svibnja 2025. | F12: 16. lipnja 2025. | G12: 5500 | H12: 3000
A13: Muzejska djelatnost | B13: Pedagoško-andragoške aktivnosti Arheološkog muzeja Narona | C13: II.7 | D13: Za redovni rad u muzeju u 2024. godini potrebno je osigurati financijska sredstva za program Pedagoško – andragoške aktivnosti. Aktivnosti će se provoditi tijekom Noći muzeja, Međunarodnog dana muzeja, Europske noći muzeja, Europskih dana arheologije i Rimske noći u Naroni te prigodno u sklopu povremenih izložbi. U 2024. godini potrebno je obnoviti potrošni materijal, angažirati vanjske suradnike, osmisliti i tiskati edukativne knjižice (Rimski mozaici). Pedagoško-andragoške aktivnosti provodit će se u muzeju i drugim lokacijama prema dogovoru te na web i Facebook stranici muzeja. Naglasak aktivnosti će biti na upoznavanju svih uzrasta s bogatstvom zbirki Arheološkog muzeja Narona i općenito rimske baštine. | E13: Siječanj 2025. | F13: Studeni 2025. | G13: 3000 | H13: 2000
A14: Muzejska djelatnost | B14: Rekognosciranje delte rijeke Neretve - prostor naselja Baćina | C14: II.8 | D14: U cilju potrebe izrade Arheološke karte delte Neretve, kao i vodiča, planiranja arheoloških istraživanja, zaštite poznatih i evidentiranja novih arheoloških lokaliteta u sklopu projekta Izrade arheološke karte delte Neretve potrebno je u 2025. g. nastaviti rekognosciranje terena radi dobivanja uvida u stanje na terenu. Svi podaci prikupljeni na ovaj način biti će obrađeni, a osnovni podaci s fotografijom nalazišta i ubačeni u bazu podataka koja će biti dostupna javnosti preko muzejske web stranice. Predviđeni troškovi programa su: putni troškovi, troškovi za izradu foto i nacrtne dokumentacije (zračne snimke, terenske snimke), baze podataka, nabavu potrošnog materijala i sl. Tijekom 2025. godine potrebno je izvršiti površinski pregled prostora naselja Baćina radi ustanovljavanja i foto dokumentiranja trenutnog stanja arheološke baštine. | E14: Siječanj 2025. | F14: Travanj 2025. | G14: 1250 | H14: 0
A15: Zaštite i očuvanja nematerijalnih kulturnih dobara | B15: Konzervacija bedema Narone | C15: III.1 | D15: Za nastavak radova sanacije bedema antičke Narone u 2025. godini potrebno je osigurati financijska sredstva. Radovi sanacije i konzervacije bedema antičke Narone kontinuirano se provode od 2017. godine, a uključuju čišćenje, uklanjanje vegetacije, ručnu razgradnju oštećenih dijelova lica bedema, sanaciju ispune bedema, zidanje razgrađenih dijelova bedema, zidarsku obradu vrha zida te izradu odgovarajuće dokumentacije. Radovi se vrše radi sprječavanja procesa propadanja ovog iznimno važnog nalazišta. Prema uvidu u stanje bedema potreban je nastavka radova koji bi uključivao obnove kapa najugroženijih dijelova sjevernog poteza naronitanskih bedema. Za potrebe izvršenja ovog posla prema pravilima struke angažirat će se vanjski suradnici. | E15: Siječanj 2025. | F15: Ožujak 2025. | G15: 7000 | H15: 5000
A16: Zaštite i očuvanja nematerijalnih kulturnih dobara | B16: Konzervacija i restauracija predmeta iz fundusa Arheološkog muzeja Narona | C16: III.2 | D16: Prema uvidu u stanje građe tijekom revizije izvršene 2021. godine potrebno je provesti rekonzervaciju i konzervaciju dijela predmeta iz fundusa izrađenih od keramike, stakla, jantara, kamena i kosti. Radovima rekonzervacije i konzervacije bi bili obuhvaćeni predmeti iz više zbirki, otkupljeni i darovani predmeti te ono koji su pronađeni pri arheološkim istraživanjima. Radi se o oko stotinjak predmeta. Za potrebe ovih radova bili bi angažirani vanjski suradnici i zaposlenici muzeja. | E16: Siječanj 2025. | F16: Studeni 2025. | G16: 2000 | H16: 0

Sheet 3.A PRORAČUNSKI PLAN-prihodi
A1: BROJ KONTA (4 razina) | B1: NAZIV KONTA (automatski se upisuje unosom kontnog broja) | C1: SREDSTVA MKM-a ZA PROGRAMSKU DJELTNOST | D1: VIŠAK IZ PRETHODNE GODINE RASPOREĐEN PREMA KONTIMA | E1: VLASTITA SREDSTVA | I1: UKUPNO
E2: IZVOR 31 | F2: IZVOR 43 | G2: IZVOR 52 | H2: IZVOR 61
A3: =+IF(C3=C4," ","GREŠKA") | B3: Ukupni iznosi iz tablice 2. | C3: =+'2. PLAN PROGRAMA'!H3 -> 2026600 | I3: =+'2. PLAN PROGRAMA'!G3 -> 2054700
A4: =+IF(I3=I4," ","GREŠKA") | B4: UKUPNO PRIHODI | C4: =SUM(C5:C1048576) -> 2026600 | D4: =SUM(D5:D1048576) -> 0 | E4: =SUM(E5:E1048576) -> 12600 | F4: =SUM(F5:F1048576) -> 12600 | G4: =SUM(G5:G1048576) -> 2900 | H4: =SUM(H5:H1048576) -> 0 | I4: =SUM(I5:I1048576) -> 2054700
A5: 6526 | B5: =+VLOOKUP(A5,'Kontni plan'!B:C,2,0) -> Ostali nespomenuti prihodi | F5: 12600 | I5: =SUM(C5:H5) -> 12600
A6: 6614 | B6: =+VLOOKUP(A6,'Kontni plan'!B:C,2,0) -> Prihodi od prodaje proizvoda i robe | E6: 12600 | I6: =SUM(C6:H6) -> 12600
A7: 6361 | B7: =+VLOOKUP(A7,'Kontni plan'!B:C,2,0) -> Tekuće pomoći proračunskim korisnicima iz proračuna koji im nije nadležan | G7: 1900 | I7: =SUM(C7:H7) -> 1900
A8: 6361 | B8: =+VLOOKUP(A8,'Kontni plan'!B:C,2,0) -> Tekuće pomoći proračunskim korisnicima iz proračuna koji im nije nadležan | G8: 1000 | I8: =SUM(C8:H8) -> 1000
A9: 6711 | B9: =+VLOOKUP(A9,'Kontni plan'!B:C,2,0) -> Prihodi iz nadležnog proračuna za financiranje rashoda poslovanja | C9: 26600 | I9: =SUM(C9:H9) -> 26600
A10: 6712 | B10: =+VLOOKUP(A10,'Kontni plan'!B:C,2,0) -> Prihodi iz nadležnog proračuna za fin. rashoda za nabavu nefinac. imovine | C10: 2000000 | I10: =SUM(C10:H10) -> 2000000
B11: =+VLOOKUP(A11,'Kontni plan'!B:C,2,0) -> #N/A | I11: =SUM(C11:H11) -> 0
B12: =+VLOOKUP(A12,'Kontni plan'!B:C,2,0) -> #N/A | I12: =SUM(C12:H12) -> 0
B13: =+VLOOKUP(A13,'Kontni plan'!B:C,2,0) -> #N/A | I13: =SUM(C13:H13) -> 0
B14: =+VLOOKUP(A14,'Kontni plan'!B:C,2,0) -> #N/A | I14: =SUM(C14:H14) -> 0
B15: =+VLOOKUP(A15,'Kontni plan'!B:C,2,0) -> #N/A | I15: =SUM(C15:H15) -> 0
B16: =+VLOOKUP(A16,'Kontni plan'!B:C,2,0) -> #N/A | I16: =SUM(C16:H16) -> 0
B17: =+VLOOKUP(A17,'Kontni plan'!B:C,2,0) -> #N/A | I17: =SUM(C17:H17) -> 0
B18: =+VLOOKUP(A18,'Kontni plan'!B:C,2,0) -> #N/A | I18: =SUM(C18:H18) -> 0
B19: =+VLOOKUP(A19,'Kontni plan'!B:C,2,0) -> #N/A | I19: =SUM(C19:H19) -> 0
B20: =+VLOOKUP(A20,'Kontni plan'!B:C,2,0) -> #N/A | I20: =SUM(C20:H20) -> 0
B21: =+VLOOKUP(A21,'Kontni plan'!B:C,2,0) -> #N/A | I21: =SUM(C21:H21) -> 0
B22: =+VLOOKUP(A22,'Kontni plan'!B:C,2,0) -> #N/A | I22: =SUM(C22:H22) -> 0
B23: =+VLOOKUP(A23,'Kontni plan'!B:C,2,0) -> #N/A | I23: =SUM(C23:H23) -> 0

Sheet 3.B PRORAČUNSKI PLAN-rashodi
A1: BROJ KONTA (4 razina) | B1: NAZIV KONTA (automatski se upisuje unosom kontnog broja) | C1: SREDSTVA MKM-a ZA PROGRAMSKU DJELTNOST | D1: VIŠAK IZ PRETHODNE GODINE RASPOREĐEN PREMA KONTIMA | E1: VLASTITA SREDSTVA | I1: UKUPNO
E2: IZVOR 31 | F2: IZVOR 43 | G2: IZVOR 52 | H2: IZVOR 61
A3: =+IF(C3=C4," ","GREŠKA") | B3: Ukupni iznos iz tablice 2. | C3: =+'2. PLAN PROGRAMA'!H3 -> 2026600 | I3: =+'2. PLAN PROGRAMA'!G3 -> 2054700
A4: =+IF(I3=I4," ","GREŠKA") | B4: UKUPNO RASHODI | C4: =SUM(C5:C1048576) -> 2026600 | D4: =SUM(D5:D1048576) -> 0 | E4: =SUM(E5:E1048576) -> 12600 | F4: =SUM(F5:F1048576) -> 12600 | G4: =SUM(G5:G1048576) -> 2900 | H4: =SUM(H5:H1048576) -> 0 | I4: =SUM(I5:I1048576) -> 2054700
A5: 3211 | B5: =+VLOOKUP(A5,'Kontni plan'!B:C,2,0) -> Službena putovanja | C5: 600 | E5: 1200 | I5: =SUM(C5:H5) -> 1800
A6: 3221 | B6: =+VLOOKUP(A6,'Kontni plan'!B:C,2,0) -> Uredski materijal i ostali materijalni rashodi | C6: 1200 | E6: 650 | F6: 400 | I6: =SUM(C6:H6) -> 2250
A7: 3222 | B7: =+VLOOKUP(A7,'Kontni plan'!B:C,2,0) -> Materijal i sirovine | C7: 100 | I7: =SUM(C7:H7) -> 100
A8: 3224 | B8: =+VLOOKUP(A8,'Kontni plan'!B:C,2,0) -> Materijal i dijelovi za tekuće i investicijsko održavanje | I8: =SUM(C8:H8) -> 0
A9: 3231 | B9: =+VLOOKUP(A9,'Kontni plan'!B:C,2,0) -> Usluge telefona, pošte i prijevoza | I9: =SUM(C9:H9) -> 0
A10: 3232 | B10: =+VLOOKUP(A10,'Kontni plan'!B:C,2,0) -> Usluge tekućeg i investicijskog održavanja | I10: =SUM(C10:H10) -> 0
A11: 3237 | B11: =+VLOOKUP(A11,'Kontni plan'!B:C,2,0) -> Intelektualne i osobne usluge | C11: 15650 | E11: 4880 | F11: 4000 | G11: 1700 | I11: =SUM(C11:H11) -> 26230
A12: 3239 | B12: =+VLOOKUP(A12,'Kontni plan'!B:C,2,0) -> Ostale usluge | C12: 8850 | E12: 4020 | F12: 600 | G12: 1200 | I12: =SUM(C12:H12) -> 14670
A13: 3292 | B13: =+VLOOKUP(A13,'Kontni plan'!B:C,2,0) -> Premije osiguranja | C13: 200 | E13: 200 | I13: =SUM(C13:H13) -> 400
A14: 4212 | B14: =+VLOOKUP(A14,'Kontni plan'!B:C,2,0) -> Poslovni objekti | C14: 2000000 | I14: =SUM(C14:H14) -> 2000000
A15: 4221 | B15: =+VLOOKUP(A15,'Kontni plan'!B:C,2,0) -> Uredska oprema i namještaj | E15: 665 | F15: 6725 | I15: =SUM(C15:H15) -> 7390
A16: 3225 | B16: =+VLOOKUP(A16,'Kontni plan'!B:C,2,0) -> Sitni inventar i auto gume | E16: 35 | F16: 217.5 | I16: =SUM(C16:H16) -> 252.5
A17: 3235 | B17: =+VLOOKUP(A17,'Kontni plan'!B:C,2,0) -> Zakupnine i najamnine | E17: 0 | F17: 257.5 | I17: =SUM(C17:H17) -> 257.5
A18: 3293 | B18: =+VLOOKUP(A18,'Kontni plan'!B:C,2,0) -> Reprezentacija | E18: 700 | F18: 400 | I18: =SUM(C18:H18) -> 1100
A19: 3223 | B19: =+VLOOKUP(A19,'Kontni plan'!B:C,2,0) -> Energija | E19: 250 | I19: =SUM(C19:H19) -> 250
B20: =+VLOOKUP(A20,'Kontni plan'!B:C,2,0) -> #N/A | I20: =SUM(C20:H20) -> 0
B21: =+VLOOKUP(A21,'Kontni plan'!B:C,2,0) -> #N/A | I21: =SUM(C21:H21) -> 0
B22: =+VLOOKUP(A22,'Kontni plan'!B:C,2,0) -> #N/A | I22: =SUM(C22:H22) -> 0
B23: =+VLOOKUP(A23,'Kontni plan'!B:C,2,0) -> #N/A | I23: =SUM(C23:H23) -> 0
B24: =+VLOOKUP(A24,'Kontni plan'!B:C,2,0) -> #N/A | I24: =SUM(C24:H24) -> 0
B25: =+VLOOKUP(A25,'Kontni plan'!B:C,2,0) -> #N/A | I25: =SUM(C25:H25) -> 0
B26: =+VLOOKUP(A26,'Kontni plan'!B:C,2,0) -> #N/A | I26: =SUM(C26:H26) -> 0
B27: =+VLOOKUP(A27,'Kontni plan'!B:C,2,0) -> #N/A | I27: =SUM(C27:H27) -> 0
B28: =+VLOOKUP(A28,'Kontni plan'!B:C,2,0) -> #N/A | I28: =SUM(C28:H28) -> 0
B29: =+VLOOKUP(A29,'Kontni plan'!B:C,2,0) -> #N/A | I29: =SUM(C29:H29) -> 0
B30: =+VLOOKUP(A30,'Kontni plan'!B:C,2,0) -> #N/A | I30: =SUM(C30:H30) -> 0
B31: =+VLOOKUP(A31,'Kontni plan'!B:C,2,0) -> #N/A | I31: =SUM(C31:H31) -> 0
... B46: =+VLOOKUP(A46,'Kontni plan'!B:C,2,0) -> #N/A | I46: =SUM(C46:H46) -> 0

Sheet Kontni plan
A1: Klasa | B1: Konto | C1: Naziv konta
A2: O | B2: 3111 | C2: Plaće za redovan rad
A3: O | B3: 3112 | C3: Plaće u naravi
A4: O | B4: 3113 | C4: Plaće za prekovremeni rad
A5: O | B5: 3114 | C5: Plaće za posebne uvjete rada
A6: O | B6: 3121 | C6: Ostali rashodi za zaposlene
A7: O | B7: 3131 | C7: Doprinosi za mirovinsko osiguranje
A8: O | B8: 3132 | C8: Doprinosi za obvezno zdravstveno osiguranje
A9: O | B9: 3133 | C9: Doprinosi za obvezno osiguranje u slučaju nezaposlenosti
A10: O | B10: 3211 | C10: Službena putovanja
A11: O | B11: 3212 | C11: Naknade za prijevoz, za rad na terenu i odvojeni život
A12: O | B12: 3213 | C12: Stručno usavršavanje zaposlenika
A13: O | B13: 3214 | C13: Ostale naknade troškova zaposlenima
... A319: O | B319: 9969 | C319: Ostali izvanbilančni zapisi

Sheet Registar proračunskih korisnika
A1: R. BR. | B1: OIB | C1: RKP | D1: NAZIV PRORAČUNSKOGA KORISNIKA | E1: ADRESA PRORAČUNSKOGA KORISNIKA | F1: POŠTANSKI BROJ I NAZIV GRADA/OPĆINE | G1: MATIČNI BROJ | H1: NAZIV PRORAČUNSKOGA KORISNIKA | I1: USTANOVE MK | J1: AKTIVNOST
A2: 55 | B2: 35237547014 | C2: 49075 | D2: AGENCIJA ZA ELEKTRONIČKE MEDIJE | E2: JAGIĆEVA 31 | F2: 10000 ZAGREB | G2: 02307014 | H2: AGENCIJA ZA ELEKTRONIČKE MEDIJE | I2: OSTALE USTANOVE | J2: A908002
A3: 56 | B3: 80099091562 | C3: 789 | D3: DRŽAVNI ARHIV U BJELOVARU | E3: TRG EUGENA KVATERNIKA 6 | F3: 43000 BJELOVAR | G3: 3316734 | H3: DRŽAVNI ARHIV U BJELOVARU | I3: ARHIVI | J3: A565028
A4: 57 | B4: 1076882554 | C4: 797 | D4: DRŽAVNI ARHIV U DUBROVNIKU | E4: SV.DOMINIKA 1 | F4: 20000 DUBROVNIK | G4: 3303870 | H4: DRŽAVNI ARHIV U DUBROVNIKU | I4: ARHIVI | J4: A565028
A5: 58 | B5: 34694889661 | C5: 23577 | D5: DRŽAVNI ARHIV U GOSPIĆU | E5: KANIŠKA 17 | F5: 53000 GOSPIĆ | G5: 1475444 | H5: DRŽAVNI ARHIV U GOSPIĆU | I5: ARHIVI | J5: A565028
A6: 59 | B6: 99575902022 | C6: 801 | D6: DRŽAVNI ARHIV U KARLOVCU | E6: LJ.ŠESTIĆA 5 | F6: 47000 KARLOVAC | G6: 3123367 | H6: DRŽAVNI ARHIV U KARLOVCU | I6: ARHIVI | J6: A565028
A7: 60 | B7: 61338774671 | C7: 810 | D7: DRŽAVNI ARHIV U OSIJEKU | E7: KAMILA FIRINGERA 1 | F7: 31000 OSIJEK | G7: 3014223 | H7: DRŽAVNI ARHIV U OSIJEKU | I7: ARHIVI | J7: A565028
A8: 61 | B8: 55059300119 | C8: 828 | D8: DRŽAVNI ARHIV U PAZINU | E8: VLADIMIRA NAZORA 3 | F8: 52000 PAZIN | G8: 3089240 | H8: DRŽAVNI ARHIV U PAZINU | I8: ARHIVI | J8: A565028
A9: 62 | B9: 16391096016 | C9: 836 | D9: DRŽAVNI ARHIV U RIJECI | E9: PARK N. HOSTA 2 | F9: 51000 RIJEKA | G9: 3321088 | H9: DRŽAVNI ARHIV U RIJECI | I9: ARHIVI | J9: A565028
A10: 63 | B10: 35994268014 | C10: 844 | D10: DRŽAVNI ARHIV U SISKU | E10: FRANKOPANSKA 21 | F10: 44000 SISAK | G10: 3313824 | H10: DRŽAVNI ARHIV U SISKU | I10: ARHIVI | J10: A565028
A11: 64 | B11: 11265594372 | C11: 852 | D11: DRŽAVNI ARHIV U SLAVONSKOM BRODU | E11: AUGUSTA CESARCA 1 | F11: 35000 SLAVONSKI BROD | G11: 3071162 | H11: DRŽAVNI ARHIV U SLAVONSKOM BRODU | I11: ARHIVI | J11: A565028
A12: 65 | B12: 61469620638 | C12: 869 | D12: DRŽAVNI ARHIV U SPLITU | E12: GLAGOLJAŠKA 18 | F12: 21000 SPLIT | G12: 3118452 | H12: DRŽAVNI ARHIV U SPLITU | I12: ARHIVI | J12: A565028
A13: 66 | B13: 97880836355 | C13: 43915 | D13: DRŽAVNI ARHIV U ŠIBENIKU | E13: VELIMIRA ŠKORPIKA 5 | F13: 22000 ŠIBENIK | G13: 2435411 | H13: DRŽAVNI ARHIV U ŠIBENIKU | I13: ARHIVI | J13: A565028
A14: 67 | B14: 72801109643 | C14: 877 | D14: DRŽAVNI ARHIV U VARAŽDINU | E14: TRSTENJAKOVA 7 | F14: 42000 VARAŽDIN | G14: 3006166 | H14: DRŽAVNI ARHIV U VARAŽDINU | I14: ARHIVI | J14: A565028
... A50: 103 | B50: 42850342757 | C50: 45189 | D50: MEĐUNARODNI CENTAR ZA PODVODNU ARHEOLOGIJU | E50: BOŽIDARA PETRANOVIĆA 1 | F50: 23000 ZADAR | G50: 2479184 | H50: MEĐUNARODNI CENTAR ZA PODVODNU ARHEOLOGIJU | I50: OSTALE USTANOVE | J50: A843002

Sheet Programske djelatnosti
A1: Arheološka baština
A2: Arhivska djelatnost
A3: Časopisi
A4: Digitalizacija arhivske, knjižnične i muzejske građe
A5: Dramska umjetnost
A6: Glazbene i glazbeno-scenske umjetnosti
A7: Informatizacija
A8: Inovativne umjetničke i kulturne prakse
A9: Investicijska potpora
A10: Književne manifestacije
A11: Književni programi knjižara
A12: Književno stvaralaštvo
... A27: Zaštite i očuvanja nematerijalnih kulturnih dobara
